BEGIN:VCALENDAR
VERSION:2.0
PRODID:-//Measure for Measure - ECPv6.15.14//NONSGML v1.0//EN
CALSCALE:GREGORIAN
METHOD:PUBLISH
X-WR-CALNAME:Measure for Measure
X-ORIGINAL-URL:https://measure-for-measure.org
X-WR-CALDESC:Events for Measure for Measure
REFRESH-INTERVAL;VALUE=DURATION:PT1H
X-Robots-Tag:noindex
X-PUBLISHED-TTL:PT1H
BEGIN:VTIMEZONE
TZID:America/Detroit
BEGIN:DAYLIGHT
TZOFFSETFROM:-0500
TZOFFSETTO:-0400
TZNAME:EDT
DTSTART:20180311T070000
END:DAYLIGHT
BEGIN:STANDARD
TZOFFSETFROM:-0400
TZOFFSETTO:-0500
TZNAME:EST
DTSTART:20181104T060000
END:STANDARD
BEGIN:DAYLIGHT
TZOFFSETFROM:-0500
TZOFFSETTO:-0400
TZNAME:EDT
DTSTART:20190310T070000
END:DAYLIGHT
BEGIN:STANDARD
TZOFFSETFROM:-0400
TZOFFSETTO:-0500
TZNAME:EST
DTSTART:20191103T060000
END:STANDARD
BEGIN:DAYLIGHT
TZOFFSETFROM:-0500
TZOFFSETTO:-0400
TZNAME:EDT
DTSTART:20200308T070000
END:DAYLIGHT
BEGIN:STANDARD
TZOFFSETFROM:-0400
TZOFFSETTO:-0500
TZNAME:EST
DTSTART:20201101T060000
END:STANDARD
END:VTIMEZONE
BEGIN:VEVENT
DTSTART;TZID=America/Detroit:20191201T160000
DTEND;TZID=America/Detroit:20191201T180000
DTSTAMP:20260421T142944
CREATED:20191109T130701Z
LAST-MODIFIED:20191109T130701Z
UID:6179-1575216000-1575223200@measure-for-measure.org
SUMMARY:Concert - Cherry Hill
DESCRIPTION:Measure for Measure returns to Cherry Hill Presbyterian Church in Dearborn for the fifth time for a solo concert.  The sanctuary includes a lovely Bösendorfer piano and is a beautiful place for singing.  The concert will feature exciting carol arrangements\, holiday favorites\, and an audience sing-along! \nTickets will be available at the door on the day of the concert.
URL:https://measure-for-measure.org/event/concert-cherry-hill-2/
LOCATION:Cherry Hill Presbyterian\, 24110 Cherry Hill Rd\, Dearborn\, MI\, United States
CATEGORIES:Concerts
ATTACH;FMTTYPE=image/jpeg:https://measure-for-measure.org/wp-content/uploads/2018/09/Dearborn.CherryHillPres.1958Austin.Scofield01.jpg
END:VEVENT
END:VCALENDAR