BEGIN:VCALENDAR
VERSION:2.0
PRODID:-//Measure for Measure - ECPv6.15.14//NONSGML v1.0//EN
CALSCALE:GREGORIAN
METHOD:PUBLISH
X-ORIGINAL-URL:https://measure-for-measure.org
X-WR-CALDESC:Events for Measure for Measure
REFRESH-INTERVAL;VALUE=DURATION:PT1H
X-Robots-Tag:noindex
X-PUBLISHED-TTL:PT1H
BEGIN:VTIMEZONE
TZID:America/Detroit
BEGIN:DAYLIGHT
TZOFFSETFROM:-0500
TZOFFSETTO:-0400
TZNAME:EDT
DTSTART:20230312T070000
END:DAYLIGHT
BEGIN:STANDARD
TZOFFSETFROM:-0400
TZOFFSETTO:-0500
TZNAME:EST
DTSTART:20231105T060000
END:STANDARD
BEGIN:DAYLIGHT
TZOFFSETFROM:-0500
TZOFFSETTO:-0400
TZNAME:EDT
DTSTART:20240310T070000
END:DAYLIGHT
BEGIN:STANDARD
TZOFFSETFROM:-0400
TZOFFSETTO:-0500
TZNAME:EST
DTSTART:20241103T060000
END:STANDARD
BEGIN:DAYLIGHT
TZOFFSETFROM:-0500
TZOFFSETTO:-0400
TZNAME:EDT
DTSTART:20250309T070000
END:DAYLIGHT
BEGIN:STANDARD
TZOFFSETFROM:-0400
TZOFFSETTO:-0500
TZNAME:EST
DTSTART:20251102T060000
END:STANDARD
END:VTIMEZONE
BEGIN:VEVENT
DTSTART;TZID=America/Detroit:20240915T183000
DTEND;TZID=America/Detroit:20240915T210000
DTSTAMP:20260421T125420
CREATED:20240611T153403Z
LAST-MODIFIED:20240908T175710Z
UID:28938-1726425000-1726434000@measure-for-measure.org
SUMMARY:New Member Auditions
DESCRIPTION:Measure for Measure: A Men’s Choral Society is holding new member auditions for the 2024-25 season! Auditions will be held on Sunday\, Sept. 15 and Sunday\, Sept. 22 following rehearsal. Please attend rehearsal and audition immediately thereafter. \nLocation:\nSt. Luke Lutheran Church\, 4205 Washtenaw Ave\, Ann Arbor\, MI 48108 \nTime:\n6:30-8:30pm\, Rehearsal \nAuditions Include:\n-Vocalization to assess range\n-A brief sight reading exercise. \nThe Fall season includes rehearsals every Sunday evening.
URL:https://measure-for-measure.org/event/new-member-auditions-4/
LOCATION:St. Luke Lutheran Church\, 4205 Washtenaw Ave\, Ann Arbor\, MI\, 48108\, United States
CATEGORIES:Auditions
ATTACH;FMTTYPE=image/jpeg:https://measure-for-measure.org/wp-content/uploads/2020/03/music.jpg
END:VEVENT
END:VCALENDAR