BEGIN:VCALENDAR
VERSION:2.0
PRODID:-//Measure for Measure - ECPv6.15.14//NONSGML v1.0//EN
CALSCALE:GREGORIAN
METHOD:PUBLISH
X-ORIGINAL-URL:https://measure-for-measure.org
X-WR-CALDESC:Events for Measure for Measure
REFRESH-INTERVAL;VALUE=DURATION:PT1H
X-Robots-Tag:noindex
X-PUBLISHED-TTL:PT1H
BEGIN:VTIMEZONE
TZID:America/Detroit
BEGIN:DAYLIGHT
TZOFFSETFROM:-0500
TZOFFSETTO:-0400
TZNAME:EDT
DTSTART:20220313T070000
END:DAYLIGHT
BEGIN:STANDARD
TZOFFSETFROM:-0400
TZOFFSETTO:-0500
TZNAME:EST
DTSTART:20221106T060000
END:STANDARD
BEGIN:DAYLIGHT
TZOFFSETFROM:-0500
TZOFFSETTO:-0400
TZNAME:EDT
DTSTART:20230312T070000
END:DAYLIGHT
BEGIN:STANDARD
TZOFFSETFROM:-0400
TZOFFSETTO:-0500
TZNAME:EST
DTSTART:20231105T060000
END:STANDARD
BEGIN:DAYLIGHT
TZOFFSETFROM:-0500
TZOFFSETTO:-0400
TZNAME:EDT
DTSTART:20240310T070000
END:DAYLIGHT
BEGIN:STANDARD
TZOFFSETFROM:-0400
TZOFFSETTO:-0500
TZNAME:EST
DTSTART:20241103T060000
END:STANDARD
END:VTIMEZONE
BEGIN:VEVENT
DTSTART;TZID=America/Detroit:20230115T183000
DTEND;TZID=America/Detroit:20230115T203000
DTSTAMP:20260423T034740
CREATED:20210920T013034Z
LAST-MODIFIED:20221221T115227Z
UID:13036-1673807400-1673814600@measure-for-measure.org
SUMMARY:New Member Auditions
DESCRIPTION:Measure for Measure: A Men’s Choral Society is holding new member auditions for the 2022-23 season! Auditions will be held on Sunday\, January 15th and Sunday\, January 22nd following rehearsal. Please attend rehearsal and audition immediately thereafter. \nLocation:\nSt. Luke Lutheran Church\, 4205 Washtenaw Ave\, Ann Arbor\, MI 48108 \nTime:\n6:30-8:30pm\, Rehearsal \nAuditions Include:\n-Vocalization to assess range\n-A brief sight reading exercise. \nThe Spring season includes rehearsals every Sunday evening. \nIf you plan on auditioning\, please fill out our interest form: https://forms.gle/SwP3X1Vx474MstRU6
URL:https://measure-for-measure.org/event/new-member-auditions-3/
LOCATION:St. Luke Lutheran Church\, 4205 Washtenaw Ave\, Ann Arbor\, MI\, 48108\, United States
CATEGORIES:Auditions
ATTACH;FMTTYPE=image/jpeg:https://measure-for-measure.org/wp-content/uploads/2018/05/david-beale-179724-unsplash-scaled.jpg
END:VEVENT
END:VCALENDAR