BEGIN:VCALENDAR
VERSION:2.0
PRODID:-//Measure for Measure - ECPv6.15.14//NONSGML v1.0//EN
CALSCALE:GREGORIAN
METHOD:PUBLISH
X-ORIGINAL-URL:https://measure-for-measure.org
X-WR-CALDESC:Events for Measure for Measure
REFRESH-INTERVAL;VALUE=DURATION:PT1H
X-Robots-Tag:noindex
X-PUBLISHED-TTL:PT1H
BEGIN:VTIMEZONE
TZID:America/Detroit
BEGIN:DAYLIGHT
TZOFFSETFROM:-0500
TZOFFSETTO:-0400
TZNAME:EDT
DTSTART:20190310T070000
END:DAYLIGHT
BEGIN:STANDARD
TZOFFSETFROM:-0400
TZOFFSETTO:-0500
TZNAME:EST
DTSTART:20191103T060000
END:STANDARD
BEGIN:DAYLIGHT
TZOFFSETFROM:-0500
TZOFFSETTO:-0400
TZNAME:EDT
DTSTART:20200308T070000
END:DAYLIGHT
BEGIN:STANDARD
TZOFFSETFROM:-0400
TZOFFSETTO:-0500
TZNAME:EST
DTSTART:20201101T060000
END:STANDARD
BEGIN:DAYLIGHT
TZOFFSETFROM:-0500
TZOFFSETTO:-0400
TZNAME:EDT
DTSTART:20210314T070000
END:DAYLIGHT
BEGIN:STANDARD
TZOFFSETFROM:-0400
TZOFFSETTO:-0500
TZNAME:EST
DTSTART:20211107T060000
END:STANDARD
END:VTIMEZONE
BEGIN:VEVENT
DTSTART;TZID=America/Detroit:20200126T183000
DTEND;TZID=America/Detroit:20200126T213000
DTSTAMP:20260425T150133
CREATED:20180521T051302Z
LAST-MODIFIED:20200126T190448Z
UID:1957-1580063400-1580074200@measure-for-measure.org
SUMMARY:New Member Auditions
DESCRIPTION:Open to male singers of all ages\, Measure for Measure: A Men’s Choral Society was founded in 1988 to provide an opportunity for singers to perform music composed and arranged for male voices. If you love to sing and can read music\, come and join our brotherhood of song! \nThe Measure for Measure 2019-20 season includes performances with the Ann Arbor Symphony Orchestra\, at the IMC National Seminar\, and in lovely venues including Hill Auditorium and St. Francis of Assisi Church. \nMeasure for Measure holds weekly rehearsals on Sunday evenings\, 6:30-9:00pm\, in Alexander Hall 106\, on the campus of Eastern Michigan University. Participation in Measure for Measure remains open to all by audition\, held in September and January of each year. \nAudition Information – Winter 2020\nDates & Times:  \nSunday\, January 19 & 26\nAlexander Music Hall\nE Circle Dr\, Room 106\nYpsilanti\, MI 48197 \n\n6:30pm Participate in rehearsal with current members\n9:00pm Auditions for prospective members\n\nImportant note about parking:\nPlease park in the Alexander gated lot\, directly East of the building. We will provide you with a parking voucher to use when you exit the lot. \nWhat to Expect \nVocalization\nThe singer will perform a series of vocalization exercises to determine the\nrange and color of the voice. \nSight Reading\nThe singer is given a short excerpt from TTBB selection\, and is asked to\nsing their part while the other three parts are played by a pianist. \nInterview\nA short\, informational interview is held with the Measure for Measure\nexecutive board to provide more details about the ensemble. \nProspective members will be notified of results within 48 hours of the\naudition. \nTo obtain information about chorus membership\, please contact music director Steven Lorenz at steven.r.lorenz(at)gmail.com or call 734.649.SONG.
URL:https://measure-for-measure.org/event/new-member-auditions-2/
LOCATION:Alexander Music Building\, E Circle Dr\, Room 106\, Ypsilanti\, MI\, 48197\, United States
CATEGORIES:Auditions
ATTACH;FMTTYPE=image/jpeg:https://measure-for-measure.org/wp-content/uploads/2018/05/Webp.net-resizeimage.jpg
END:VEVENT
END:VCALENDAR